{
 "currentVersion": 10.61,
 "serviceDescription": "The main objectives of the MVAP Project is to produce aerial photography of the Mackenzie Delta development area and Mackenzie Gas Project route to Alberta. The spatial data set has been produced to meet the mapping needs of regulators: for issuing permits and licenses, and for environmental impacts assessment of industry development in the delta and Mackenzie pipeline corridor area. MVAP data acts as a baseline mapping tool to monitor change due to climate fluctuations and/or impacts from economic development. MVAP orthophoto tiles can be used as layers in Geographic Information Systems, for earth science analysis or for display purposes. MVAP orthophoto tiles are used to monitor permafrost changes, habitat mapping and geomorphology studies in the Mackenzie River valley and delta, Northwest Territories.\n\nAerial Photography: scale 1:3,000\n\nTime: August 2004\n\nTwo contractors produced the orthophotos: \n\nUMA utilised the BAE Socet Set software for the DEM collection. This software is functionally similar to the Intergraph software used by Geosys and Mapcon. Mapcon's Salt Lake City office has been using the BAE software for a number of years and has a lot of experience with this tool. UMA says they collect a 120 m point spacing. They then supplement this with the manually collected breaklines and special points at locations such as hilltops, bottom of depressions, etc. All three of these data sets are used to generate first a 60 m then a 30 m point spacing grid. UMA uses the PCI OrthoEngine software for the orthophoto rectifications. They then use the ER Mapper software for the mosaicing of the individual rectifications\n\nGeosys used the Intergraph collection software for the DEM collection. They segmented the project into areas they felt were compatible with the use of the Intergaph auto-correlation software package ISAE and those requiring manual collection. In the ISAE areas a 12 m point spacing was collected automatically. In the other areas a 120 m point spacing was collected. Both of these datasets were supplemented with manually collected breaklines. Geosys uses the Inpho OrthoMaster software for the orthophoto generation and OrthoVista for radiometric image balancing and mosaicing. Imagery was processes as groups so as to ensure balance between adjacent image tiles.",
 "mapName": "Layers",
 "description": "",
 "copyrightText": "This data set was developed for INAC. Aerial Photography and Aerial Triangulation was conducted by Groupe Alta. Creation of Orthophotos by UMA Geomatics and Geosys Technology Solutions.",
 "supportsDynamicLayers": false,
 "layers": [
  {
   "id": 0,
   "name": "IBLMVAP_ORTHOPHOTO_MOSAIC",
   "parentLayerId": -1,
   "defaultVisibility": true,
   "subLayerIds": [
    1,
    2,
    3
   ],
   "minScale": 0,
   "maxScale": 0
  },
  {
   "id": 1,
   "name": "Boundary",
   "parentLayerId": 0,
   "defaultVisibility": false,
   "subLayerIds": null,
   "minScale": 0,
   "maxScale": 0
  },
  {
   "id": 2,
   "name": "Footprint",
   "parentLayerId": 0,
   "defaultVisibility": false,
   "subLayerIds": null,
   "minScale": 0,
   "maxScale": 0
  },
  {
   "id": 3,
   "name": "Image",
   "parentLayerId": 0,
   "defaultVisibility": true,
   "subLayerIds": null,
   "minScale": 0,
   "maxScale": 0
  },
  {
   "id": 4,
   "name": "IBLMVAP_ORTHOPHOTO_ZOOMEDOUT",
   "parentLayerId": -1,
   "defaultVisibility": true,
   "subLayerIds": [
    5,
    6,
    7
   ],
   "minScale": 0,
   "maxScale": 0
  },
  {
   "id": 5,
   "name": "Boundary",
   "parentLayerId": 4,
   "defaultVisibility": false,
   "subLayerIds": null,
   "minScale": 0,
   "maxScale": 0
  },
  {
   "id": 6,
   "name": "Footprint",
   "parentLayerId": 4,
   "defaultVisibility": false,
   "subLayerIds": null,
   "minScale": 0,
   "maxScale": 0
  },
  {
   "id": 7,
   "name": "Image",
   "parentLayerId": 4,
   "defaultVisibility": true,
   "subLayerIds": null,
   "minScale": 0,
   "maxScale": 0
  }
 ],
 "tables": [],
 "spatialReference": {
  "wkid": 102002,
  "latestWkid": 102002
 },
 "singleFusedMapCache": true,
 "tileInfo": {
  "rows": 256,
  "cols": 256,
  "dpi": 96,
  "format": "PNG32",
  "compressionQuality": 0,
  "origin": {
   "x": -35105400,
   "y": 40955300
  },
  "spatialReference": {
   "wkid": 102002,
   "latestWkid": 102002
  },
  "lods": [
   {
    "level": 0,
    "resolution": 6614.596562526459,
    "scale": 25000000
   },
   {
    "level": 1,
    "resolution": 4233.341800016934,
    "scale": 16000000
   },
   {
    "level": 2,
    "resolution": 2116.670900008467,
    "scale": 8000000
   },
   {
    "level": 3,
    "resolution": 1058.3354500042335,
    "scale": 4000000
   },
   {
    "level": 4,
    "resolution": 529.1677250021168,
    "scale": 2000000
   },
   {
    "level": 5,
    "resolution": 264.5838625010584,
    "scale": 1000000
   },
   {
    "level": 6,
    "resolution": 132.2919312505292,
    "scale": 500000
   },
   {
    "level": 7,
    "resolution": 99.21894843789688,
    "scale": 375000
   },
   {
    "level": 8,
    "resolution": 66.1459656252646,
    "scale": 250000
   },
   {
    "level": 9,
    "resolution": 33.0729828126323,
    "scale": 125000
   },
   {
    "level": 10,
    "resolution": 19.843789687579378,
    "scale": 75000
   },
   {
    "level": 11,
    "resolution": 13.229193125052918,
    "scale": 50000
   },
   {
    "level": 12,
    "resolution": 9.260435187537043,
    "scale": 35000
   },
   {
    "level": 13,
    "resolution": 5.291677250021167,
    "scale": 20000
   },
   {
    "level": 14,
    "resolution": 2.6458386250105836,
    "scale": 10000
   },
   {
    "level": 15,
    "resolution": 1.3229193125052918,
    "scale": 5000
   },
   {
    "level": 16,
    "resolution": 0.26458386250105836,
    "scale": 1000
   }
  ]
 },
 "initialExtent": {
  "xmin": -2104427.765265848,
  "ymin": 2898774.023858491,
  "xmax": -720857.7979341488,
  "ymax": 3812198.8566600014,
  "spatialReference": {
   "wkid": 102002,
   "latestWkid": 102002
  }
 },
 "fullExtent": {
  "xmin": -1568260.5315999985,
  "ymin": 2453052.0132,
  "xmax": -1257025.0315999985,
  "ymax": 3747477.578400001,
  "spatialReference": {
   "wkid": 102002,
   "latestWkid": 102002
  }
 },
 "minScale": 4000000,
 "maxScale": 1000,
 "units": "esriMeters",
 "supportedImageFormatTypes": "PNG32,PNG24,PNG,JPG,DIB,TIFF,EMF,PS,PDF,GIF,SVG,SVGZ,BMP",
 "documentInfo": {
  "Title": "",
  "Author": "",
  "Comments": "The main objectives of the MVAP Project is to produce aerial photography of the Mackenzie Delta development area and Mackenzie Gas Project route to Alberta. The spatial data set has been produced to meet the mapping needs of regulators: for issuing permits and licenses, and for environmental impacts assessment of industry development in the delta and Mackenzie pipeline corridor area. MVAP data acts as a baseline mapping tool to monitor change due to climate fluctuations and/or impacts from economic development. MVAP orthophoto tiles can be used as layers in Geographic Information Systems, for earth science analysis or for display purposes. MVAP orthophoto tiles are used to monitor permafrost changes, habitat mapping and geomorphology studies in the Mackenzie River valley and delta, Northwest Territories.\n\nAerial Photography: scale 1:3,000\n\nTime: August 2004\n\nTwo contractors produced the orthophotos: \n\nUMA utilised the BAE Socet Set software for the DEM collection. This software is functionally similar to the Intergraph software used by Geosys and Mapcon. Mapcon's Salt Lake City office has been using the BAE software for a number of years and has a lot of experience with this tool. UMA says they collect a 120 m point spacing. They then supplement this with the manually collected breaklines and special points at locations such as hilltops, bottom of depressions, etc. All three of these data sets are used to generate first a 60 m then a 30 m point spacing grid. UMA uses the PCI OrthoEngine software for the orthophoto rectifications. They then use the ER Mapper software for the mosaicing of the individual rectifications\n\nGeosys used the Intergraph collection software for the DEM collection. They segmented the project into areas they felt were compatible with the use of the Intergaph auto-correlation software package ISAE and those requiring manual collection. In the ISAE areas a 12 m point spacing was collected automatically. In the other areas a 120 m point spacing was collected. Both of these datasets were supplemented with manually collected breaklines. Geosys uses the Inpho OrthoMaster software for the orthophoto generation and OrthoVista for radiometric image balancing and mosaicing. Imagery was processes as groups so as to ensure balance between adjacent image tiles.",
  "Subject": "The Mackenzie Valley Air Photo (MVAP) Project is a multi-year, multimillion dollar mapping project (2003-2008) involving three federal departments -- Indian and Northern Affairs Canada (INAC), Natural Resources Canada, Environment Canada ",
  "Category": "",
  "AntialiasingMode": "None",
  "TextAntialiasingMode": "Force",
  "Keywords": "MVAP,Air Photo,Mackenzie valley,River,Mackenzie River,Natural Resources Canada"
 },
 "capabilities": "Map,Query,Data",
 "supportedQueryFormats": "JSON, AMF, geoJSON",
 "exportTilesAllowed": false,
 "datumTransformations": [
  {
   "geoTransforms": [
    {
     "wkid": 108001,
     "latestWkid": 1241,
     "transformForward": true,
     "name": "NAD_1927_To_NAD_1983_NADCON"
    }
   ]
  },
  {
   "geoTransforms": [
    {
     "wkid": 108001,
     "latestWkid": 1241,
     "transformForward": false,
     "name": "NAD_1927_To_NAD_1983_NADCON"
    }
   ]
  }
 ],
 "supportsDatumTransformation": true,
 "maxRecordCount": 1000,
 "maxImageHeight": 4096,
 "maxImageWidth": 4096,
 "supportedExtensions": "KmlServer, WMSServer"
}
