{
 "currentVersion": 10.61,
 "serviceDescription": "",
 "mapName": "Layers",
 "description": "",
 "copyrightText": "",
 "supportsDynamicLayers": false,
 "layers": [
  {
   "id": 0,
   "name": "Name Annotation",
   "parentLayerId": -1,
   "defaultVisibility": true,
   "subLayerIds": [
    1,
    2,
    3,
    5,
    7
   ],
   "minScale": 0,
   "maxScale": 0
  },
  {
   "id": 1,
   "name": "Geonames - 0-1:60k scale",
   "parentLayerId": 0,
   "defaultVisibility": true,
   "subLayerIds": null,
   "minScale": 60100,
   "maxScale": 0
  },
  {
   "id": 2,
   "name": "NWT Communities - 1:5k-1:5M scale",
   "parentLayerId": 0,
   "defaultVisibility": true,
   "subLayerIds": null,
   "minScale": 5000100,
   "maxScale": 5010
  },
  {
   "id": 3,
   "name": "Provincial Admin Anno - 1:5M-1:30M scale",
   "parentLayerId": 0,
   "defaultVisibility": true,
   "subLayerIds": [
    4
   ],
   "minScale": 30000000,
   "maxScale": 5000001
  },
  {
   "id": 4,
   "name": "Default",
   "parentLayerId": 3,
   "defaultVisibility": true,
   "subLayerIds": null,
   "minScale": 0,
   "maxScale": 0
  },
  {
   "id": 5,
   "name": "Lakes Anno - 1:500k-1:10M scale",
   "parentLayerId": 0,
   "defaultVisibility": true,
   "subLayerIds": [
    6
   ],
   "minScale": 10000100,
   "maxScale": 500101
  },
  {
   "id": 6,
   "name": "Default",
   "parentLayerId": 5,
   "defaultVisibility": true,
   "subLayerIds": null,
   "minScale": 0,
   "maxScale": 0
  },
  {
   "id": 7,
   "name": "Transportation - 0-1:8M scale",
   "parentLayerId": 0,
   "defaultVisibility": true,
   "subLayerIds": [
    8,
    9,
    10,
    11,
    12,
    13
   ],
   "minScale": 8000000,
   "maxScale": 0
  },
  {
   "id": 8,
   "name": "Trails - 1:60k-1:300k scale",
   "parentLayerId": 7,
   "defaultVisibility": true,
   "subLayerIds": null,
   "minScale": 300000,
   "maxScale": 60101
  },
  {
   "id": 9,
   "name": "Trails - 0-1:60k scale",
   "parentLayerId": 7,
   "defaultVisibility": true,
   "subLayerIds": null,
   "minScale": 60100,
   "maxScale": 0
  },
  {
   "id": 10,
   "name": "Winter Roads - 1:100k-1:400k scale",
   "parentLayerId": 7,
   "defaultVisibility": true,
   "subLayerIds": null,
   "minScale": 1000000,
   "maxScale": 100100
  },
  {
   "id": 11,
   "name": "Ferry - 0-1:250k scale",
   "parentLayerId": 7,
   "defaultVisibility": true,
   "subLayerIds": null,
   "minScale": 250000,
   "maxScale": 0
  },
  {
   "id": 12,
   "name": "Major Road - 0-1:8M scale",
   "parentLayerId": 7,
   "defaultVisibility": true,
   "subLayerIds": null,
   "minScale": 8000100,
   "maxScale": 0
  },
  {
   "id": 13,
   "name": "Road - 0-1:100k scale",
   "parentLayerId": 7,
   "defaultVisibility": true,
   "subLayerIds": null,
   "minScale": 100100,
   "maxScale": 0
  },
  {
   "id": 14,
   "name": "BuildingFootPrint - 0-1:10k scale",
   "parentLayerId": -1,
   "defaultVisibility": true,
   "subLayerIds": null,
   "minScale": 10000,
   "maxScale": 0
  },
  {
   "id": 15,
   "name": "Community - 0-1:1M scale",
   "parentLayerId": -1,
   "defaultVisibility": true,
   "subLayerIds": null,
   "minScale": 1000000,
   "maxScale": 0
  },
  {
   "id": 16,
   "name": "InlandWater",
   "parentLayerId": -1,
   "defaultVisibility": true,
   "subLayerIds": [
    17,
    23
   ],
   "minScale": 0,
   "maxScale": 0
  },
  {
   "id": 17,
   "name": "Low-Med Resolution - 0-1:30M scale",
   "parentLayerId": 16,
   "defaultVisibility": true,
   "subLayerIds": [
    18,
    19,
    20,
    21,
    22
   ],
   "minScale": 30000000,
   "maxScale": 0
  },
  {
   "id": 18,
   "name": "Major Lakes - 1:10M-1:30M scale",
   "parentLayerId": 17,
   "defaultVisibility": true,
   "subLayerIds": null,
   "minScale": 30000000,
   "maxScale": 10000101
  },
  {
   "id": 19,
   "name": "Rivers - 1:5M-1:10M scale",
   "parentLayerId": 17,
   "defaultVisibility": true,
   "subLayerIds": null,
   "minScale": 10000100,
   "maxScale": 5000101
  },
  {
   "id": 20,
   "name": "Lakes - 1:3M-1:10M scale",
   "parentLayerId": 17,
   "defaultVisibility": true,
   "subLayerIds": null,
   "minScale": 10000100,
   "maxScale": 3000101
  },
  {
   "id": 21,
   "name": "Lakes 2M - 1:125k-1:3M scale",
   "parentLayerId": 17,
   "defaultVisibility": true,
   "subLayerIds": null,
   "minScale": 3000100,
   "maxScale": 125001
  },
  {
   "id": 22,
   "name": "Rivers - 0-1:5M scale",
   "parentLayerId": 17,
   "defaultVisibility": true,
   "subLayerIds": null,
   "minScale": 5000100,
   "maxScale": 0
  },
  {
   "id": 23,
   "name": "Med-High Resolution - 0-1:2M",
   "parentLayerId": 16,
   "defaultVisibility": true,
   "subLayerIds": [
    24,
    25,
    26
   ],
   "minScale": 1999999,
   "maxScale": 0
  },
  {
   "id": 24,
   "name": "Permanent snow ice",
   "parentLayerId": 23,
   "defaultVisibility": true,
   "subLayerIds": null,
   "minScale": 0,
   "maxScale": 0
  },
  {
   "id": 25,
   "name": "Rivers - 0-1:60k scale",
   "parentLayerId": 23,
   "defaultVisibility": true,
   "subLayerIds": null,
   "minScale": 60000,
   "maxScale": 0
  },
  {
   "id": 26,
   "name": "Lakes - 0-1:60k scale",
   "parentLayerId": 23,
   "defaultVisibility": true,
   "subLayerIds": null,
   "minScale": 125000,
   "maxScale": 0
  },
  {
   "id": 27,
   "name": "Transportation Line",
   "parentLayerId": -1,
   "defaultVisibility": true,
   "subLayerIds": null,
   "minScale": 10000,
   "maxScale": 0
  },
  {
   "id": 28,
   "name": "Surveyed Parcels",
   "parentLayerId": -1,
   "defaultVisibility": true,
   "subLayerIds": null,
   "minScale": 10000,
   "maxScale": 0
  },
  {
   "id": 29,
   "name": "Boundaries",
   "parentLayerId": -1,
   "defaultVisibility": true,
   "subLayerIds": [
    30,
    31,
    32,
    33
   ],
   "minScale": 0,
   "maxScale": 0
  },
  {
   "id": 30,
   "name": "NWT Boundaries - 0-1:8M scale",
   "parentLayerId": 29,
   "defaultVisibility": true,
   "subLayerIds": null,
   "minScale": 0,
   "maxScale": 8000001
  },
  {
   "id": 31,
   "name": "Provincial Admin - 0-1:8M scale",
   "parentLayerId": 29,
   "defaultVisibility": true,
   "subLayerIds": null,
   "minScale": 8000000,
   "maxScale": 0
  },
  {
   "id": 32,
   "name": "Canada Territorial Limits - 1m - scale",
   "parentLayerId": 29,
   "defaultVisibility": true,
   "subLayerIds": null,
   "minScale": 0,
   "maxScale": 1000101
  },
  {
   "id": 33,
   "name": "Ocean 250k",
   "parentLayerId": 29,
   "defaultVisibility": false,
   "subLayerIds": null,
   "minScale": 0,
   "maxScale": 0
  },
  {
   "id": 34,
   "name": "SDW.DBO.NA_GTOPO30_SHADED_RELIEF",
   "parentLayerId": -1,
   "defaultVisibility": true,
   "subLayerIds": null,
   "minScale": 0,
   "maxScale": 0
  }
 ],
 "tables": [],
 "spatialReference": {
  "wkid": 102002,
  "latestWkid": 102002
 },
 "singleFusedMapCache": true,
 "tileInfo": {
  "rows": 256,
  "cols": 256,
  "dpi": 96,
  "format": "PNG32",
  "compressionQuality": 0,
  "origin": {
   "x": -35105400,
   "y": 40955300
  },
  "spatialReference": {
   "wkid": 102002,
   "latestWkid": 102002
  },
  "lods": [
   {
    "level": 0,
    "resolution": 6614.596562526459,
    "scale": 25000000
   },
   {
    "level": 1,
    "resolution": 4233.341800016934,
    "scale": 16000000
   },
   {
    "level": 2,
    "resolution": 2116.670900008467,
    "scale": 8000000
   },
   {
    "level": 3,
    "resolution": 1058.3354500042335,
    "scale": 4000000
   },
   {
    "level": 4,
    "resolution": 529.1677250021168,
    "scale": 2000000
   },
   {
    "level": 5,
    "resolution": 264.5838625010584,
    "scale": 1000000
   },
   {
    "level": 6,
    "resolution": 132.2919312505292,
    "scale": 500000
   },
   {
    "level": 7,
    "resolution": 99.21894843789688,
    "scale": 375000
   },
   {
    "level": 8,
    "resolution": 66.1459656252646,
    "scale": 250000
   },
   {
    "level": 9,
    "resolution": 33.0729828126323,
    "scale": 125000
   },
   {
    "level": 10,
    "resolution": 19.843789687579378,
    "scale": 75000
   },
   {
    "level": 11,
    "resolution": 13.229193125052918,
    "scale": 50000
   },
   {
    "level": 12,
    "resolution": 9.260435187537043,
    "scale": 35000
   },
   {
    "level": 13,
    "resolution": 5.291677250021167,
    "scale": 20000
   },
   {
    "level": 14,
    "resolution": 2.6458386250105836,
    "scale": 10000
   }
  ]
 },
 "initialExtent": {
  "xmin": -2870805.1942569613,
  "ymin": 2065489.8857860959,
  "xmax": 1145577.8385091047,
  "ymax": 3957793.6703936653,
  "spatialReference": {
   "wkid": 102002,
   "latestWkid": 102002
  }
 },
 "fullExtent": {
  "xmin": -8802499.71209995,
  "ymin": -2832794.145021976,
  "xmax": 4980500.287900049,
  "ymax": 6746205.854978024,
  "spatialReference": {
   "wkid": 102002,
   "latestWkid": 102002
  }
 },
 "minScale": 25000000,
 "maxScale": 10000,
 "units": "esriMeters",
 "supportedImageFormatTypes": "PNG32,PNG24,PNG,JPG,DIB,TIFF,EMF,PS,PDF,GIF,SVG,SVGZ,BMP",
 "documentInfo": {
  "Title": "",
  "Author": "",
  "Comments": "",
  "Subject": "",
  "Category": "",
  "AntialiasingMode": "None",
  "TextAntialiasingMode": "Force",
  "Keywords": ""
 },
 "capabilities": "Map,Query,Data",
 "supportedQueryFormats": "JSON, AMF, geoJSON",
 "exportTilesAllowed": false,
 "datumTransformations": [
  {
   "geoTransforms": [
    {
     "wkid": 108001,
     "latestWkid": 1241,
     "transformForward": true,
     "name": "NAD_1927_To_NAD_1983_NADCON"
    }
   ]
  },
  {
   "geoTransforms": [
    {
     "wkid": 108001,
     "latestWkid": 1241,
     "transformForward": false,
     "name": "NAD_1927_To_NAD_1983_NADCON"
    }
   ]
  }
 ],
 "supportsDatumTransformation": true,
 "maxRecordCount": 1000,
 "maxImageHeight": 4096,
 "maxImageWidth": 4096,
 "supportedExtensions": "KmlServer, WMSServer"
}
