{
 "currentVersion": 10.61,
 "serviceDescription": "This dataset is a mosaic of SPOT 4 and SPOT 5 satellite imagery that covers the Northwest Territories and adjacent areas in the Yukon Territory, Nunavut Territory, British Columbia and Alberta. Individual SPOT images were downloaded from Geobase.ca, and full FGDC metadata for the individual images and additional information on the SPOT satellite is available from the geobase website (http://www.geobase.ca/geobase/en/data/imagery/imr/index.html). These images were acquired over a 5 year period between 2005-2010. Processing conducted at the NWT Centre for Geomatics included pan-fusion of the 20 meter 'color' image bands with the 10 meter panchromatic band, creating a composite image which has 10 meter resolution and red-green-blue colours. No color correction or color balancing has been applied to the imagery. Images were downloaded from http:\\\\www.geobase.ca in UTM, NAD 83 projection. All images includes 'No Data\" areas between the coloured part of the image and the file extent. During the mosaic process (ArcMap GIS software), the NoData areas were set to transparent, This included all areas within the image which had values of 0,0,0 (black, black, black) for each of the three image channels. However, this procedure also affected all areas of the image which had values of 0,0,0, as a result, some areas within the darker coloured areas of the image appear as white, or empty pixels. This is a result of the mosaic process, and not an error within the SPOT data. NOTE: This Service is continously cached until 1:35,000 scale, which is the optimal scale for viewing 10 m Spot resolution. This service may not be cache in specific areas any scale larger than 1:30,000. \n",
 "mapName": "Layers",
 "description": "",
 "copyrightText": "Steven Schwarz, NWT Centre for Geomatics",
 "supportsDynamicLayers": false,
 "layers": [
  {
   "id": 0,
   "name": "GNWT_SPOT_Mosaic",
   "parentLayerId": -1,
   "defaultVisibility": true,
   "subLayerIds": [
    1,
    2,
    3
   ],
   "minScale": 0,
   "maxScale": 0
  },
  {
   "id": 1,
   "name": "Boundary",
   "parentLayerId": 0,
   "defaultVisibility": true,
   "subLayerIds": null,
   "minScale": 0,
   "maxScale": 0
  },
  {
   "id": 2,
   "name": "Footprint",
   "parentLayerId": 0,
   "defaultVisibility": true,
   "subLayerIds": null,
   "minScale": 0,
   "maxScale": 16000001
  },
  {
   "id": 3,
   "name": "Spot Imagery",
   "parentLayerId": 0,
   "defaultVisibility": true,
   "subLayerIds": null,
   "minScale": 16000000,
   "maxScale": 0
  }
 ],
 "tables": [],
 "spatialReference": {
  "wkid": 102002,
  "latestWkid": 102002
 },
 "singleFusedMapCache": true,
 "tileInfo": {
  "rows": 256,
  "cols": 256,
  "dpi": 96,
  "format": "PNG32",
  "compressionQuality": 0,
  "origin": {
   "x": -35105400,
   "y": 40955300
  },
  "spatialReference": {
   "wkid": 102002,
   "latestWkid": 102002
  },
  "lods": [
   {
    "level": 0,
    "resolution": 6614.596562526459,
    "scale": 25000000
   },
   {
    "level": 1,
    "resolution": 4233.341800016934,
    "scale": 16000000
   },
   {
    "level": 2,
    "resolution": 2116.670900008467,
    "scale": 8000000
   },
   {
    "level": 3,
    "resolution": 1058.3354500042335,
    "scale": 4000000
   },
   {
    "level": 4,
    "resolution": 529.1677250021168,
    "scale": 2000000
   },
   {
    "level": 5,
    "resolution": 264.5838625010584,
    "scale": 1000000
   },
   {
    "level": 6,
    "resolution": 132.2919312505292,
    "scale": 500000
   },
   {
    "level": 7,
    "resolution": 99.21894843789688,
    "scale": 375000
   },
   {
    "level": 8,
    "resolution": 66.1459656252646,
    "scale": 250000
   },
   {
    "level": 9,
    "resolution": 33.0729828126323,
    "scale": 125000
   },
   {
    "level": 10,
    "resolution": 19.843789687579378,
    "scale": 75000
   },
   {
    "level": 11,
    "resolution": 13.229193125052918,
    "scale": 50000
   },
   {
    "level": 12,
    "resolution": 9.260435187537043,
    "scale": 35000
   },
   {
    "level": 13,
    "resolution": 5.291677250021167,
    "scale": 20000
   },
   {
    "level": 14,
    "resolution": 2.6458386250105836,
    "scale": 10000
   },
   {
    "level": 15,
    "resolution": 1.3229193125052918,
    "scale": 5000
   },
   {
    "level": 16,
    "resolution": 0.26458386250105836,
    "scale": 1000
   }
  ]
 },
 "initialExtent": {
  "xmin": -2583251.521866992,
  "ymin": 2752987.2242597435,
  "xmax": 1777090.532150452,
  "ymax": 5631659.64827126,
  "spatialReference": {
   "wkid": 102002,
   "latestWkid": 102002
  }
 },
 "fullExtent": {
  "xmin": -2286313.7916,
  "ymin": 1651894.7665,
  "xmax": 822316.2083999999,
  "ymax": 4679765.214500003,
  "spatialReference": {
   "wkid": 102002,
   "latestWkid": 102002
  }
 },
 "minScale": 25000000,
 "maxScale": 1000,
 "units": "esriMeters",
 "supportedImageFormatTypes": "PNG32,PNG24,PNG,JPG,DIB,TIFF,EMF,PS,PDF,GIF,SVG,SVGZ,BMP",
 "documentInfo": {
  "Title": "",
  "Author": "",
  "Comments": "This dataset is a mosaic of SPOT 4 and SPOT 5 satellite imagery that covers the Northwest Territories and adjacent areas in the Yukon Territory, Nunavut Territory, British Columbia and Alberta. Individual SPOT images were downloaded from Geobase.ca, and full FGDC metadata for the individual images and additional information on the SPOT satellite is available from the geobase website (http://www.geobase.ca/geobase/en/data/imagery/imr/index.html). These images were acquired over a 5 year period between 2005-2010. Processing conducted at the NWT Centre for Geomatics included pan-fusion of the 20 meter 'color' image bands with the 10 meter panchromatic band, creating a composite image which has 10 meter resolution and red-green-blue colours. No color correction or color balancing has been applied to the imagery. Images were downloaded from http:\\\\www.geobase.ca in UTM, NAD 83 projection. All images includes 'No Data\" areas between the coloured part of the image and the file extent. During the mosaic process (ArcMap GIS software), the NoData areas were set to transparent, This included all areas within the image which had values of 0,0,0 (black, black, black) for each of the three image channels. However, this procedure also affected all areas of the image which had values of 0,0,0, as a result, some areas within the darker coloured areas of the image appear as white, or empty pixels. This is a result of the mosaic process, and not an error within the SPOT data. NOTE: This Service is continously cached until 1:35,000 scale, which is the optimal scale for viewing 10 m Spot resolution. This service may not be cache in specific areas any scale larger than 1:30,000. \n",
  "Subject": "This a mosaic of SPOT 4 and SPOT 5 satellite images, that were collected between 2005-1010. Mosaic covers all of NWT and slightly beyond NWT borders. Images were downloaded from geobase.ca and processed at the NWT Centre for Geomatics. ",
  "Category": "",
  "AntialiasingMode": "None",
  "TextAntialiasingMode": "Force",
  "Keywords": "SPOT,imagery,Mosaic,NWT"
 },
 "capabilities": "Map,Query,Data",
 "supportedQueryFormats": "JSON, AMF, geoJSON",
 "exportTilesAllowed": false,
 "supportsDatumTransformation": true,
 "maxRecordCount": 1000,
 "maxImageHeight": 4096,
 "maxImageWidth": 4096,
 "supportedExtensions": "KmlServer, WMSServer"
}
