{
 "currentVersion": 10.61,
 "serviceDescription": "",
 "mapName": "Layers",
 "description": "",
 "copyrightText": "",
 "supportsDynamicLayers": false,
 "layers": [
  {
   "id": 0,
   "name": "IRS_Dehcho_5m_Mosaic_50k",
   "parentLayerId": -1,
   "defaultVisibility": true,
   "subLayerIds": [
    1,
    2,
    3
   ],
   "minScale": 0,
   "maxScale": 0
  },
  {
   "id": 1,
   "name": "Boundary",
   "parentLayerId": 0,
   "defaultVisibility": true,
   "subLayerIds": null,
   "minScale": 0,
   "maxScale": 0
  },
  {
   "id": 2,
   "name": "Footprint",
   "parentLayerId": 0,
   "defaultVisibility": false,
   "subLayerIds": null,
   "minScale": 0,
   "maxScale": 0
  },
  {
   "id": 3,
   "name": "Image",
   "parentLayerId": 0,
   "defaultVisibility": true,
   "subLayerIds": null,
   "minScale": 0,
   "maxScale": 0
  },
  {
   "id": 4,
   "name": "IRS_Dehcho_5m_Mosaic_250K",
   "parentLayerId": -1,
   "defaultVisibility": true,
   "subLayerIds": [
    5,
    6,
    7
   ],
   "minScale": 0,
   "maxScale": 0
  },
  {
   "id": 5,
   "name": "Boundary",
   "parentLayerId": 4,
   "defaultVisibility": false,
   "subLayerIds": null,
   "minScale": 0,
   "maxScale": 0
  },
  {
   "id": 6,
   "name": "Footprint",
   "parentLayerId": 4,
   "defaultVisibility": false,
   "subLayerIds": null,
   "minScale": 0,
   "maxScale": 0
  },
  {
   "id": 7,
   "name": "Image",
   "parentLayerId": 4,
   "defaultVisibility": true,
   "subLayerIds": null,
   "minScale": 0,
   "maxScale": 0
  }
 ],
 "tables": [],
 "spatialReference": {
  "wkid": 102002,
  "latestWkid": 102002
 },
 "singleFusedMapCache": true,
 "tileInfo": {
  "rows": 256,
  "cols": 256,
  "dpi": 96,
  "format": "PNG32",
  "compressionQuality": 0,
  "origin": {
   "x": -35105400,
   "y": 40955300
  },
  "spatialReference": {
   "wkid": 102002,
   "latestWkid": 102002
  },
  "lods": [
   {
    "level": 0,
    "resolution": 6614.596562526459,
    "scale": 25000000
   },
   {
    "level": 1,
    "resolution": 4233.341800016934,
    "scale": 16000000
   },
   {
    "level": 2,
    "resolution": 2116.670900008467,
    "scale": 8000000
   },
   {
    "level": 3,
    "resolution": 1058.3354500042335,
    "scale": 4000000
   },
   {
    "level": 4,
    "resolution": 529.1677250021168,
    "scale": 2000000
   },
   {
    "level": 5,
    "resolution": 264.5838625010584,
    "scale": 1000000
   },
   {
    "level": 6,
    "resolution": 132.2919312505292,
    "scale": 500000
   },
   {
    "level": 7,
    "resolution": 99.21894843789688,
    "scale": 375000
   },
   {
    "level": 8,
    "resolution": 66.1459656252646,
    "scale": 250000
   },
   {
    "level": 9,
    "resolution": 33.0729828126323,
    "scale": 125000
   },
   {
    "level": 10,
    "resolution": 19.843789687579378,
    "scale": 75000
   },
   {
    "level": 11,
    "resolution": 13.229193125052918,
    "scale": 50000
   },
   {
    "level": 12,
    "resolution": 9.260435187537043,
    "scale": 35000
   },
   {
    "level": 13,
    "resolution": 5.291677250021167,
    "scale": 20000
   },
   {
    "level": 14,
    "resolution": 2.6458386250105836,
    "scale": 10000
   },
   {
    "level": 15,
    "resolution": 1.3229193125052918,
    "scale": 5000
   },
   {
    "level": 16,
    "resolution": 0.26458386250105836,
    "scale": 1000
   }
  ]
 },
 "initialExtent": {
  "xmin": -1671841.6938333814,
  "ymin": 2618776.60249679,
  "xmax": -1017790.3857307652,
  "ymax": 3050577.466098517,
  "spatialReference": {
   "wkid": 102002,
   "latestWkid": 102002
  }
 },
 "fullExtent": {
  "xmin": -1656159.9023999982,
  "ymin": 2390388.866700001,
  "xmax": -1022539.9023999982,
  "ymax": 2992373.866700001,
  "spatialReference": {
   "wkid": 102002,
   "latestWkid": 102002
  }
 },
 "minScale": 8000000,
 "maxScale": 1000,
 "units": "esriMeters",
 "supportedImageFormatTypes": "PNG32,PNG24,PNG,JPG,DIB,TIFF,EMF,PS,PDF,GIF,SVG,SVGZ,BMP",
 "documentInfo": {
  "Title": "",
  "Author": "",
  "Comments": "",
  "Subject": "",
  "Category": "",
  "AntialiasingMode": "None",
  "TextAntialiasingMode": "Force",
  "Keywords": ""
 },
 "capabilities": "Map,Query,Data",
 "supportedQueryFormats": "JSON, AMF, geoJSON",
 "exportTilesAllowed": false,
 "datumTransformations": [
  {
   "geoTransforms": [
    {
     "wkid": 108001,
     "latestWkid": 1241,
     "transformForward": true,
     "name": "NAD_1927_To_NAD_1983_NADCON"
    }
   ]
  },
  {
   "geoTransforms": [
    {
     "wkid": 108001,
     "latestWkid": 1241,
     "transformForward": false,
     "name": "NAD_1927_To_NAD_1983_NADCON"
    }
   ]
  }
 ],
 "supportsDatumTransformation": true,
 "maxRecordCount": 1000,
 "maxImageHeight": 4096,
 "maxImageWidth": 4096,
 "supportedExtensions": "KmlServer, WMSServer"
}
