{
 "currentVersion": 10.91,
 "serviceDescription": "This tiled dataset includes 12 images that cover the entire NWT with an RGB colour composite dataset. The images highlight areas of landscape change over a 35 year period dating from 1984 to 2019. The analysis approach is based on a Tasseled Cap analysis to develop brightness, greenness, and wetness indices for all cloud-free image pixels spanning this period. For each pixel location, regression is applied to determine the linear trend over 35 years for each of the three indices. The composite image of these results illustrates areas of development, vegetation greening, fire, geomorphology and other forms of landscape change that can be interpreted with the use of a colour wheel as a guide. Refer to various documents to reference this colour wheel interpretation guide \u2013 including the summary report for this dataset issued by Caslys Consulting Ltd. (Long-Term Landscape Change Detection for NWT) or technical papers issued by lead author Dr. Robert Fraser (NRCan) for various projects (LARCH or ParkSPACE). These results build upon past efforts led by Canada Centre for Earth Observation and Mapping and Parks Canada while being made possible by advances in cloud computing. The relatively seamless dataset across the NWT is based on a sampling of the entire Landsat TM, ETM and OLI archive by selecting only the best clear-sky pixels from each year during the peak greenness of the summer season.",
 "name": "Mosaics/LongTermChangeDetection_TasseledCapResult",
 "description": "This tiled dataset includes 12 images that cover the entire NWT with an RGB colour composite dataset. The images highlight areas of landscape change over a 35 year period dating from 1984 to 2019. The analysis approach is based on a Tasseled Cap analysis to develop brightness, greenness, and wetness indices for all cloud-free image pixels spanning this period. For each pixel location, regression is applied to determine the linear trend over 35 years for each of the three indices. The composite image of these results illustrates areas of development, vegetation greening, fire, geomorphology and other forms of landscape change that can be interpreted with the use of a colour wheel as a guide. Refer to various documents to reference this colour wheel interpretation guide \u2013 including the summary report for this dataset issued by Caslys Consulting Ltd. (Long-Term Landscape Change Detection for NWT) or technical papers issued by lead author Dr. Robert Fraser (NRCan) for various projects (LARCH or ParkSPACE). These results build upon past efforts led by Canada Centre for Earth Observation and Mapping and Parks Canada while being made possible by advances in cloud computing. The relatively seamless dataset across the NWT is based on a sampling of the entire Landsat TM, ETM and OLI archive by selecting only the best clear-sky pixels from each year during the peak greenness of the summer season.",
 "extent": {
  "xmin": -1122211.726620243,
  "ymin": 8121857.793069191,
  "xmax": 557363.2733797571,
  "ymax": 1.0277207793069191E7,
  "spatialReference": {
   "wkid": 3580,
   "latestWkid": 3580
  }
 },
 "initialExtent": {
  "xmin": -1122211.726620243,
  "ymin": 8121857.793069191,
  "xmax": 557363.2733797571,
  "ymax": 1.0277207793069191E7,
  "spatialReference": {
   "wkid": 3580,
   "latestWkid": 3580
  }
 },
 "fullExtent": {
  "xmin": -1122211.726620243,
  "ymin": 8121857.793069191,
  "xmax": 557363.2733797571,
  "ymax": 1.0277207793069191E7,
  "spatialReference": {
   "wkid": 3580,
   "latestWkid": 3580
  }
 },
 "pixelSizeX": 25,
 "pixelSizeY": 25,
 "bandCount": 3,
 "pixelType": "U8",
 "minPixelSize": 0,
 "maxPixelSize": 0,
 "copyrightText": "NWT Centre for Geomatics",
 "serviceDataType": "esriImageServiceDataTypeRGB",
 "minValues": [
  0,
  0,
  0
 ],
 "maxValues": [
  255,
  255,
  255
 ],
 "meanValues": [
  101.53082897543558,
  107.96886212211665,
  94.27126691415101
 ],
 "stdvValues": [
  97.82359320894547,
  74.77152961061078,
  88.58047453707391
 ],
 "objectIdField": "OBJECTID",
 "fields": [
  {
   "name": "OBJECTID",
   "type": "esriFieldTypeOID",
   "alias": "OBJECTID",
   "domain": null
  },
  {
   "name": "Name",
   "type": "esriFieldTypeString",
   "alias": "Name",
   "domain": null,
   "length": 200
  },
  {
   "name": "MinPS",
   "type": "esriFieldTypeDouble",
   "alias": "MinPS",
   "domain": null
  },
  {
   "name": "MaxPS",
   "type": "esriFieldTypeDouble",
   "alias": "MaxPS",
   "domain": null
  },
  {
   "name": "LowPS",
   "type": "esriFieldTypeDouble",
   "alias": "LowPS",
   "domain": null
  },
  {
   "name": "HighPS",
   "type": "esriFieldTypeDouble",
   "alias": "HighPS",
   "domain": null
  },
  {
   "name": "Category",
   "type": "esriFieldTypeInteger",
   "alias": "Category",
   "domain": {
    "type": "codedValue",
    "name": "MosaicCatalogItemCategoryDomain",
    "description": "Catalog item categories.",
    "codedValues": [
     {
      "name": "Unknown",
      "code": 0
     },
     {
      "name": "Primary",
      "code": 1
     },
     {
      "name": "Overview",
      "code": 2
     },
     {
      "name": "Unprocessed Overview",
      "code": 3
     },
     {
      "name": "Partial Overview",
      "code": 4
     },
     {
      "name": "Uploaded",
      "code": 253
     },
     {
      "name": "Incomplete",
      "code": 254
     },
     {
      "name": "Custom",
      "code": 255
     }
    ],
    "mergePolicy": "esriMPTDefaultValue",
    "splitPolicy": "esriSPTDefaultValue"
   }
  },
  {
   "name": "Tag",
   "type": "esriFieldTypeString",
   "alias": "Tag",
   "domain": null,
   "length": 100
  },
  {
   "name": "GroupName",
   "type": "esriFieldTypeString",
   "alias": "GroupName",
   "domain": null,
   "length": 100
  },
  {
   "name": "ProductName",
   "type": "esriFieldTypeString",
   "alias": "ProductName",
   "domain": null,
   "length": 100
  },
  {
   "name": "CenterX",
   "type": "esriFieldTypeDouble",
   "alias": "CenterX",
   "domain": null
  },
  {
   "name": "CenterY",
   "type": "esriFieldTypeDouble",
   "alias": "CenterY",
   "domain": null
  },
  {
   "name": "ZOrder",
   "type": "esriFieldTypeInteger",
   "alias": "ZOrder",
   "domain": null
  },
  {
   "name": "Shape",
   "type": "esriFieldTypeGeometry",
   "alias": "Shape",
   "domain": null
  }
 ],
 "capabilities": "Catalog,Pixels,Image,Metadata",
 "defaultMosaicMethod": "Northwest",
 "allowedMosaicMethods": "NorthWest,Center,LockRaster,ByAttribute,Nadir,Viewpoint,Seamline,None",
 "sortField": "",
 "sortValue": null,
 "sortAscending": true,
 "mosaicOperator": "First",
 "maxDownloadSizeLimit": 2048,
 "defaultCompressionQuality": 75,
 "defaultResamplingMethod": "Nearest",
 "maxImageHeight": 4100,
 "maxImageWidth": 15000,
 "maxRecordCount": 1000,
 "maxDownloadImageCount": 20,
 "maxMosaicImageCount": 20,
 "allowRasterFunction": true,
 "rasterFunctionInfos": [
  {
   "name": "None",
   "description": "A No-Op Function.",
   "help": ""
  }
 ],
 "rasterTypeInfos": [
  {
   "name": "Raster Dataset",
   "description": "Supports all ArcGIS Raster Datasets",
   "help": ""
  }
 ],
 "mensurationCapabilities": "None",
 "hasHistograms": true,
 "hasColormap": false,
 "hasRasterAttributeTable": false,
 "minScale": 0,
 "maxScale": 0,
 "exportTilesAllowed": false,
 "hasMultidimensions": false,
 "supportsStatistics": true,
 "supportsAdvancedQueries": true,
 "editFieldsInfo": null,
 "ownershipBasedAccessControlForRasters": null,
 "allowComputeTiePoints": false,
 "useStandardizedQueries": true,
 "advancedQueryCapabilities": {
  "useStandardizedQueries": true,
  "supportsStatistics": true,
  "supportsOrderBy": true,
  "supportsDistinct": true,
  "supportsPagination": true
 },
 "spatialReference": {
  "wkid": 3580,
  "latestWkid": 3580
 }
}
