{ "currentVersion": 10.91, "serviceDescription": "
Compilation of historical and recent hillshaded digital elevation models (surface models) derived through Light Detection and Ranging (LiDAR) data of the Northwest Territories. The compilation represents georeferenced coverage of very high resolution data (1 m spatial resolution) of NWT communities, infrastructure corridors, and other areas of interest. Hillshaded digital surface models (HS-DSM) represent a grayscale three-dimensional representation of the natural and built environment, including bare ground, vegetation, and buildings. Models were derived from LiDAR pointclouds at 1-m spatial resolution. LiDAR vendors may have performed positional adjustments based on ground control points where necessary based on project requirements.<\/span><\/p><\/div><\/div>",
"name": "Mosaics/NWTCG_LiDAR_HIL_DSM_External_Referenced",
"description": " Compilation of historical and recent hillshaded digital elevation models (surface models) derived through Light Detection and Ranging (LiDAR) data of the Northwest Territories. The compilation represents georeferenced coverage of very high resolution data (1 m spatial resolution) of NWT communities, infrastructure corridors, and other areas of interest. Hillshaded digital surface models (HS-DSM) represent a grayscale three-dimensional representation of the natural and built environment, including bare ground, vegetation, and buildings. Models were derived from LiDAR pointclouds at 1-m spatial resolution. LiDAR vendors may have performed positional adjustments based on ground control points where necessary based on project requirements.<\/span><\/p><\/div><\/div>",
"extent": {
"xmin": -1.51742486347E7,
"ymin": 8396070.017099999,
"xmax": -1.21040906347E7,
"ymax": 1.0898342017099999E7,
"spatialReference": {
"wkid": 102100,
"latestWkid": 3857
}
},
"initialExtent": {
"xmin": -1.51742486347E7,
"ymin": 8396070.017099999,
"xmax": -1.21040906347E7,
"ymax": 1.0898342017099999E7,
"spatialReference": {
"wkid": 102100,
"latestWkid": 3857
}
},
"fullExtent": {
"xmin": -1.51742486347E7,
"ymin": 8396070.017099999,
"xmax": -1.21040906347E7,
"ymax": 1.0898342017099999E7,
"spatialReference": {
"wkid": 102100,
"latestWkid": 3857
}
},
"hasMultidimensions": false,
"timeInfo": {
"startTimeField": "FirstDate",
"endTimeField": "LastDate",
"timeExtent": [
1230768000000,
1672444800000
],
"timeReference": null
},
"pixelSizeX": 1,
"pixelSizeY": 1,
"datasetFormat": "AMD",
"uncompressedSize": 7682370398976,
"blockWidth": 2048,
"blockHeight": 256,
"compressionType": "None",
"bandNames": [
"Band_1"
],
"allowCopy": true,
"allowAnalysis": true,
"bandCount": 1,
"pixelType": "U8",
"minPixelSize": 0,
"maxPixelSize": 0,
"copyrightText": "NWT Centre for Geomatics",
"serviceDataType": "esriImageServiceDataTypeProcessed",
"serviceSourceType": "esriImageServiceSourceTypeMosaicDataset",
"minValues": [],
"maxValues": [],
"meanValues": [],
"stdvValues": [],
"objectIdField": "OBJECTID",
"fields": [
{
"name": "OBJECTID",
"type": "esriFieldTypeOID",
"alias": "OBJECTID",
"domain": null
},
{
"name": "Name",
"type": "esriFieldTypeString",
"alias": "Name",
"domain": null,
"length": 200
},
{
"name": "Category",
"type": "esriFieldTypeInteger",
"alias": "Category",
"domain": {
"type": "codedValue",
"name": "MosaicCatalogItemCategoryDomain",
"description": "Catalog item categories.",
"codedValues": [
{
"name": "Unknown",
"code": 0
},
{
"name": "Primary",
"code": 1
},
{
"name": "Overview",
"code": 2
},
{
"name": "Unprocessed Overview",
"code": 3
},
{
"name": "Partial Overview",
"code": 4
},
{
"name": "Uploaded",
"code": 253
},
{
"name": "Incomplete",
"code": 254
},
{
"name": "Custom",
"code": 255
}
],
"mergePolicy": "esriMPTDefaultValue",
"splitPolicy": "esriSPTDefaultValue"
}
},
{
"name": "Tag",
"type": "esriFieldTypeString",
"alias": "Tag",
"domain": null,
"length": 100
},
{
"name": "GroupName",
"type": "esriFieldTypeString",
"alias": "GroupName",
"domain": null,
"length": 100
},
{
"name": "ProductName",
"type": "esriFieldTypeString",
"alias": "ProductName",
"domain": null,
"length": 100
},
{
"name": "Year",
"type": "esriFieldTypeInteger",
"alias": "Year",
"domain": null
},
{
"name": "Source",
"type": "esriFieldTypeString",
"alias": "Source",
"domain": null,
"length": 255
},
{
"name": "License",
"type": "esriFieldTypeString",
"alias": "License",
"domain": null,
"length": 255
},
{
"name": "VDatum",
"type": "esriFieldTypeString",
"alias": "VDatum",
"domain": null,
"length": 255
},
{
"name": "Shape",
"type": "esriFieldTypeGeometry",
"alias": "Shape",
"domain": null
}
],
"capabilities": "Catalog,Mensuration,Pixels,Download,Image,Metadata",
"defaultMosaicMethod": "ByAttribute",
"allowedMosaicMethods": "ByAttribute,None,LockRaster",
"sortField": "Year",
"sortValue": "3000",
"sortAscending": false,
"mosaicOperator": "Last",
"maxDownloadSizeLimit": 2048,
"defaultCompressionQuality": 80,
"defaultResamplingMethod": "Bilinear",
"maxImageHeight": 15000,
"maxImageWidth": 15000,
"maxRecordCount": 1000,
"maxDownloadImageCount": 10,
"maxMosaicImageCount": 228,
"allowRasterFunction": true,
"rasterFunctionInfos": [
{
"name": "None",
"description": "Make a Raster or Raster Dataset into a Function Raster Dataset.",
"help": ""
}
],
"rasterTypeInfos": [
{
"name": "Raster Dataset",
"description": "Supports all ArcGIS Raster Datasets",
"help": ""
}
],
"mensurationCapabilities": "Basic",
"hasHistograms": false,
"hasColormap": false,
"hasRasterAttributeTable": false,
"minScale": 0,
"maxScale": 0,
"exportTilesAllowed": false,
"supportsStatistics": true,
"supportsAdvancedQueries": true,
"editFieldsInfo": null,
"ownershipBasedAccessControlForRasters": null,
"allowComputeTiePoints": false,
"useStandardizedQueries": true,
"advancedQueryCapabilities": {
"useStandardizedQueries": true,
"supportsStatistics": true,
"supportsOrderBy": true,
"supportsDistinct": true,
"supportsPagination": true
},
"spatialReference": {
"wkid": 102100,
"latestWkid": 3857
}
}